BEGIN:VCALENDAR
VERSION:2.0
PRODID:-//Deutsch-Japanische Gesellschaft Bielefeld e.V. - ECPv6.15.20//NONSGML v1.0//EN
CALSCALE:GREGORIAN
METHOD:PUBLISH
X-ORIGINAL-URL:https://www.djg-owl.de
X-WR-CALDESC:Veranstaltungen für Deutsch-Japanische Gesellschaft Bielefeld e.V.
REFRESH-INTERVAL;VALUE=DURATION:PT1H
X-Robots-Tag:noindex
X-PUBLISHED-TTL:PT1H
BEGIN:VTIMEZONE
TZID:Europe/Berlin
BEGIN:DAYLIGHT
TZOFFSETFROM:+0100
TZOFFSETTO:+0200
TZNAME:CEST
DTSTART:20160327T010000
END:DAYLIGHT
BEGIN:STANDARD
TZOFFSETFROM:+0200
TZOFFSETTO:+0100
TZNAME:CET
DTSTART:20161030T010000
END:STANDARD
BEGIN:DAYLIGHT
TZOFFSETFROM:+0100
TZOFFSETTO:+0200
TZNAME:CEST
DTSTART:20170326T010000
END:DAYLIGHT
BEGIN:STANDARD
TZOFFSETFROM:+0200
TZOFFSETTO:+0100
TZNAME:CET
DTSTART:20171029T010000
END:STANDARD
BEGIN:DAYLIGHT
TZOFFSETFROM:+0100
TZOFFSETTO:+0200
TZNAME:CEST
DTSTART:20180325T010000
END:DAYLIGHT
BEGIN:STANDARD
TZOFFSETFROM:+0200
TZOFFSETTO:+0100
TZNAME:CET
DTSTART:20181028T010000
END:STANDARD
END:VTIMEZONE
BEGIN:VEVENT
DTSTART;TZID=Europe/Berlin:20171015T180000
DTEND;TZID=Europe/Berlin:20171015T193000
DTSTAMP:20260421T103735
CREATED:20171010T205202Z
LAST-MODIFIED:20171010T205202Z
UID:857-1508090400-1508095800@www.djg-owl.de
SUMMARY:„Marimba-Exkursion“  mit Fumito Nunoya - Kammerkonzert
DESCRIPTION:Die Marimba\, ein xylophonartiges Schlaginstrument afrikanischer Herkunft\, hat ein breites Spektrum unterschiedlichster Klangfarben\, von klar bis warm\, und wird mit verschiedenartigen Schlägeln\, Mallets genannt\, gespielt.\nDas Publikum kann sich darauf freuen\, die große Bandbreite dieses aussergewöhnlichen Instrumentes mit Kompositionen von J.S.Bach\, Ennio Morricone sowie mit japanischen Liedern und anderen Originalkompositionen für Marimba zu erleben. \nFumito Nunoya begann mit dem Klavierspielen im Alter von sieben Jahren\, und mit dem Spielen der Marimba und anderer Schlaginstrumente im Alter von 13 Jahren. Er promovierte an der Yamagata Universität (Japan) mit einem Abschluss in Musikpädagogik\, und einem Diplom als „Meister der Musik und Künste“ für das Marimbaspiel am Boston Conservatory (USA). Er war damit der erste Marimba- (oder Schlagzeug) Absolvent\, der diese Auszeichnung der Schule erhielt.\nFumito Nunoya genießt internationale Aufmerksamkeit als einer der führenden Marimbisten der heutigen Zeit. Geboren in Odate\, Japan (eine kleine Stadt in der Präfektur Akita)\, lebt er momentan in Deutschland. Seit 2009 lehrt er Marimba an der Hochschule für Musik Detmold. Zusätzlich zu Auftritten in Deutschland und innerhalb Europas\, reist er auch regelmäßig zu Auftritten nach Japan und in die USA.
URL:https://www.djg-owl.de/event/marimba-exkursion-mit-fumito-nunoya-kammerkonzert/
LOCATION:Haus Wellensiek\, Wellensiek 108 A\, Bielefeld\, 33619
ATTACH;FMTTYPE=image/jpeg:https://www.djg-owl.de/wp-content/uploads/Untitled-35.jpg
END:VEVENT
END:VCALENDAR