BEGIN:VCALENDAR
VERSION:2.0
PRODID:-//Deutsch-Japanische Gesellschaft Bielefeld e.V. - ECPv6.15.20//NONSGML v1.0//EN
CALSCALE:GREGORIAN
METHOD:PUBLISH
X-WR-CALNAME:Deutsch-Japanische Gesellschaft Bielefeld e.V.
X-ORIGINAL-URL:https://www.djg-owl.de
X-WR-CALDESC:Veranstaltungen für Deutsch-Japanische Gesellschaft Bielefeld e.V.
REFRESH-INTERVAL;VALUE=DURATION:PT1H
X-Robots-Tag:noindex
X-PUBLISHED-TTL:PT1H
BEGIN:VTIMEZONE
TZID:Europe/Berlin
BEGIN:DAYLIGHT
TZOFFSETFROM:+0100
TZOFFSETTO:+0200
TZNAME:CEST
DTSTART:20250330T010000
END:DAYLIGHT
BEGIN:STANDARD
TZOFFSETFROM:+0200
TZOFFSETTO:+0100
TZNAME:CET
DTSTART:20251026T010000
END:STANDARD
BEGIN:DAYLIGHT
TZOFFSETFROM:+0100
TZOFFSETTO:+0200
TZNAME:CEST
DTSTART:20260329T010000
END:DAYLIGHT
BEGIN:STANDARD
TZOFFSETFROM:+0200
TZOFFSETTO:+0100
TZNAME:CET
DTSTART:20261025T010000
END:STANDARD
BEGIN:DAYLIGHT
TZOFFSETFROM:+0100
TZOFFSETTO:+0200
TZNAME:CEST
DTSTART:20270328T010000
END:DAYLIGHT
BEGIN:STANDARD
TZOFFSETFROM:+0200
TZOFFSETTO:+0100
TZNAME:CET
DTSTART:20271031T010000
END:STANDARD
END:VTIMEZONE
BEGIN:VEVENT
DTSTART;TZID=Europe/Berlin:20260207T140000
DTEND;TZID=Europe/Berlin:20260207T180000
DTSTAMP:20260422T122020
CREATED:20251114T115708Z
LAST-MODIFIED:20260112T150501Z
UID:5138-1770472800-1770487200@www.djg-owl.de
SUMMARY:Neujahrsfest der Deutsch-Japanischen Gesellschaft Bielefeld. e.V.
DESCRIPTION:Herzlich willkommen beim Neujahrsfest der Deutsch-Japanischen Gesellschaft Bielefeld e. V.\nam Samstag\, den 07.02.2026\, von 14:00 Uhr bis 18:00 Uhr im Historischen Saal und im Murnau-Saal der VHS Bielefeld\, Ravensberger Park 1\, 33607 Bielefeld.\n新年会及へのご案内 日時: 2025年2月07日\, 土曜日\, 14時 から18時 までに. \nWir laden Sie herzlich ein\, gemeinsam auf das Jahr des Feuer-Pferdes im fröhlichen Kreis mit japanischem Sake anzustoßen! Freuen Sie sich auf ein buntes Programm mit Musik\, Tanz und Vorträgen. \nAußerdem erwarten Sie bekannte japanische Kunsthandwerker*innen sowie Manga-Künstler*innen\, japanische Süßigkeiten\, Tee\, Kirin-Bier\, Choya-Sake und Ume-Wein zum Verkosten\, Informationen über Japan\, Bonsai- und Ikebana-Ausstellung\, Spiele und vieles mehr. \nUnser Programm zum downloaden finden Sie hier
URL:https://www.djg-owl.de/event/neujahrsfest-der-deutsch-japanischen-gesellschaft-bielefeld-e-v/
LOCATION:VHS-Bielefeld\, Historischer Saal und Murnau-Saal\, Ravensberger Park 1\, Bielefeld\, NRW\, 33607\, Deutschland
ATTACH;FMTTYPE=image/jpeg:https://www.djg-owl.de/wp-content/uploads/Neujahrsfest-2025-09-e1763121375917.jpg
ORGANIZER;CN="Deutsch-Japanische Gesellschaft Bielefeld e.V.":MAILTO:info@djg-bielefeld.de
END:VEVENT
END:VCALENDAR